BEGIN:VCALENDAR
VERSION:2.0
PRODID:< http://www.open2c.de/ >
METHOD:PUBLISH
X-PUBLISHED-TTL:PT12H
BEGIN:VEVENT
CREATED:20260210T141321Z
LAST-MODIFIED:20260210T141544Z
GEO:0.000000,0.000000
ORGANIZER;CN="Iris Frick und Gabi Thiel (Fränkischer Sagen- und Märchenkreis)"DTSTAMP:20260423T081149Z
DTSTART:20260325T180000Z
DTEND:20260325T180000Z
CATEGORIES:Lesungen
SUMMARY;CHARSET=UTF-8:Himmel(?) und Hölle(?) - Märchen und Schwänke von Eheleuten
DESCRIPTION;CHARSET=UTF-8: 
 Organisator   Iris Frick und Gabi Thiel (Fränkischer Sagen- und Märchenkreis)
LOCATION;CHARSET=UTF-8:Kulturhof H7\\, Hauptstraße 7\\, Bubenreuth
UID:60a080e98bca6c9e17cf78eabe1da0ec@519ee04d2c2d66176d67fc23ddbd6343
END:VEVENT
END:VCALENDAR