BEGIN:VCALENDAR
VERSION:2.0
PRODID:< http://www.open2c.de/ >
METHOD:PUBLISH
X-PUBLISHED-TTL:PT12H
BEGIN:VEVENT
CREATED:20240423T112001Z
LAST-MODIFIED:20240423T112109Z
GEO:0.000000,0.000000
ORGANIZER;CN="Seniorenclub Bubenreuth"DTSTAMP:20260421T083434Z
DTSTART:20240515T123000Z
DTEND:20240515T123000Z
CATEGORIES:Kirche
SUMMARY;CHARSET=UTF-8:Seniorenclub
DESCRIPTION;CHARSET=UTF-8:Seniorenclub mit dem Akrobatik-Ensemble der Inha-Tanzgruppe Erlangen
 Organisator   Seniorenclub Bubenreuth
LOCATION;CHARSET=UTF-8:Katholischer Pfarrsaal
UID:21e9a0fb4b26af02725e04bc9f9544a9@519ee04d2c2d66176d67fc23ddbd6343
END:VEVENT
BEGIN:VEVENT
CREATED:20240423T091726Z
LAST-MODIFIED:20240423T104951Z
GEO:0.000000,0.000000
ORGANIZER;CN="DAV - Sektion Eger und Egerland"DTSTAMP:20260421T083434Z
DTSTART:20240515T173000Z
DTEND:20240515T173000Z
CATEGORIES:Vereine
SUMMARY;CHARSET=UTF-8:DAV - Sektionsabend
DESCRIPTION;CHARSET=UTF-8:Sektionsabend mit Bildervortrag über den Iran und die alten Perser 2. Teil mit Gernot Klarmann
 Organisator   DAV - Sektion Eger und Egerland
LOCATION;CHARSET=UTF-8:19\\":\\"30 Uhr Katholischer Pfarrsaal Bubenreuth
UID:034ad03b51cabf47f9db3d94dcba6940@519ee04d2c2d66176d67fc23ddbd6343
END:VEVENT
END:VCALENDAR