BEGIN:VCALENDAR
VERSION:1.0
PRODID:Open2CKalenderExportV11
BEGIN:VEVENT
DTSTAMP:20260209T090607Z
DTSTART:20260719T083000Z
DTEND:20260719T083000Z
CATEGORIES:Kirche
SUMMARY;CHARSET=UTF-8:Gottesdienst im Freien
DESCRIPTION;CHARSET=UTF-8: | Organisator   Evangelische LukasGemeinde
LOCATION;CHARSET=UTF-8:Seuberthwiese
UID:e2434b557aac8dae1e3b4ddbd8e13fc7-8b7039f55d4c5cc8d64fcd6abd7179ca
PRIORITY:3
END:VEVENT
END:VCALENDAR