BEGIN:VCALENDAR
VERSION:1.0
PRODID:Open2CKalenderExportV11
BEGIN:VEVENT
DTSTAMP:20260109T090414Z
DTSTART:20260426T130000Z
DTEND:20260426T130000Z
CATEGORIES:Kinder
SUMMARY;CHARSET=UTF-8:FINDET NEMO - Kinderkissenkino im Kulturhof H7
DESCRIPTION;CHARSET=UTF-8: | Organisator   Gemeinde Bubenreuth
LOCATION;CHARSET=UTF-8:Kulturhof H7, Hauptstraße 7, 91088 Bubenreuth
UID:0da593b62a3270825ed985692034ddf1-4ed8322cd0cca1e53bc58861bbd5b476
PRIORITY:3
END:VEVENT
END:VCALENDAR