BEGIN:VCALENDAR
VERSION:1.0
PRODID:Open2CKalenderExportV11
BEGIN:VEVENT
DTSTAMP:20260109T090128Z
DTSTART:20260325T180000Z
DTEND:20260325T180000Z
CATEGORIES:Verschiedenes
SUMMARY;CHARSET=UTF-8:Himmel(?) und Hölle(?) - Märchenlesung im Kulturhof
DESCRIPTION;CHARSET=UTF-8: | Organisator   Gemeinde Bubenreuth
LOCATION;CHARSET=UTF-8:Kulturhof H7, Hauptstraße 7, 91088 Bubenreuth
UID:7d284a9ed214d3a31b9d9acf65b82902-21e8fd6f73d6cf790bbc25c964acf1a9
PRIORITY:3
END:VEVENT
END:VCALENDAR